BEGIN:VCALENDAR
VERSION:2.0
PRODID:-//wp-events-plugin.com//7.2.3.1//EN
BEGIN:VEVENT
UID:910@davispubliclibrary.org
DTSTART:20260618T100000Z
DTEND:20260618T110000Z
DTSTAMP:20230522T212559Z
URL:https://davispubliclibrary.org/events/storytime-2-2026-06-18/
SUMMARY:Storytime!
DESCRIPTION:with movement\, music\, puppets\, crafts\, toys\, and surprises
  every week! Registration no longer required.
ATTACH;FMTTYPE=image/jpeg:https://davispubliclibrary.org/wp-content/upload
 s/2021/10/Storytime.jpg
LOCATION:Davis Public Library\, 1391 Rt 123 North\, Stoddard\, New Hampshir
 e\, 03464\, United States
X-APPLE-STRUCTURED-LOCATION;VALUE=URI;X-ADDRESS=1391 Rt 123 North\, Stoddar
 d\, New Hampshire\, 03464\, United States;X-APPLE-RADIUS=100;X-TITLE=Davis
  Public Library:geo:0,0
END:VEVENT
END:VCALENDAR