BEGIN:VCALENDAR
VERSION:2.0
PRODID:-//wp-events-plugin.com//7.2.3.1//EN
BEGIN:VEVENT
UID:1192@davispubliclibrary.org
DTSTART:20250510T090000Z
DTEND:20250531T100000Z
DTSTAMP:20250501T172328Z
URL:https://davispubliclibrary.org/event-recurring/functional-fitness/
SUMMARY:Functional Fitness
DESCRIPTION:It's not about body building or showing off - it's about being 
 sufficiently fit to live YOUR best life! For all adults and fitness levels
 . Led by Mike Prohaska\, certified fitness trainer.\nLearn more at MikePro
 haska.com
ATTACH;FMTTYPE=image/jpeg:https://davispubliclibrary.org/wp-content/upload
 s/2023/10/Functional-Fitness-Large-scaled.jpg
LOCATION:Stoddard\, NH Town Hall\, 1450 Rt 123 North\, Stoddard\, New Hamps
 hire\, 03464\, United States
X-APPLE-STRUCTURED-LOCATION;VALUE=URI;X-ADDRESS=1450 Rt 123 North\, Stoddar
 d\, New Hampshire\, 03464\, United States;X-APPLE-RADIUS=100;X-TITLE=Stodd
 ard\, NH Town Hall:geo:0,0
END:VEVENT
END:VCALENDAR