BEGIN:VCALENDAR
VERSION:2.0
PRODID:-//wp-events-plugin.com//7.2.3.1//EN
BEGIN:VEVENT
UID:1022@davispubliclibrary.org
DTSTART;TZID=America/New_York:20280911T190000
DTEND;TZID=America/New_York:20280911T200000
DTSTAMP:20260105T221928Z
URL:https://davispubliclibrary.org/events/book-club-2028-09-11/
SUMMARY:Book Club
DESCRIPTION:Join the Davis Public Library Book Club lead by Leigh Fosberry 
 and Inga Dellea. Book Club meets on the 2nd Monday evening of every month\
 , and you may join physically OR virtually HERE!\n\nFor 2026\, the books a
 re currently as follows (but this list can change)\n\nJan 12 – The Froze
 n River by Ariel Lawhon ILL\nFeb 9 - An Immense World by Ed Young RTG\nMar
 ch 9 – The Berry Pickers by Amanda Peters RTG\nApril 13 – The Beach on
  Summerly by Beatriz Williams RTG\nMay 14 – The Bear by Andrew Krivak RT
 G\n\nJune\, July and August\nSummer Hiatus\n\nSept 14 – Another Brooklyn
  by Jacqueline Woodson RTG\nOct 12 – Tom Lake by Ann Patchet RTG\nNov 9 
 – Lessons in Chemistry by Bonnie Garum RTG\nDec 14 – God of the Woods 
 by Liz Moore RTG
LOCATION:https://us02web.zoom.us/j/85730551066?pwd=L2VuczB1WlE3OE9VSUJYMml2
 NU1xdz09
END:VEVENT
BEGIN:VTIMEZONE
TZID:America/New_York
X-LIC-LOCATION:America/New_York
BEGIN:DAYLIGHT
DTSTART:20280312T030000
TZOFFSETFROM:-0500
TZOFFSETTO:-0400
TZNAME:EDT
END:DAYLIGHT
END:VTIMEZONE
END:VCALENDAR