BEGIN:VCALENDAR
VERSION:2.0
PRODID:-//wp-events-plugin.com//7.2.3.1//EN
BEGIN:VEVENT
UID:57@davispubliclibrary.org
DTSTART;TZID=America/New_York:20220324T100000
DTEND;TZID=America/New_York:20220324T110000
DTSTAMP:20220329T191220Z
URL:https://davispubliclibrary.org/events/storytime-2022-03-24/
SUMMARY:Storytime!
DESCRIPTION:\n\nEvery week is a new adventure. Music and movement\, stories
  and props bringing families and learning together!
ATTACH;FMTTYPE=image/jpeg:https://davispubliclibrary.org/wp-content/upload
 s/2021/10/Storytime.jpg
END:VEVENT
BEGIN:VEVENT
UID:58@davispubliclibrary.org
DTSTART;TZID=America/New_York:20220331T100000
DTEND;TZID=America/New_York:20220331T110000
DTSTAMP:20220329T191220Z
URL:https://davispubliclibrary.org/events/storytime-2022-03-31/
SUMMARY:Storytime!
DESCRIPTION:\n\nEvery week is a new adventure. Music and movement\, stories
  and props bringing families and learning together!
ATTACH;FMTTYPE=image/jpeg:https://davispubliclibrary.org/wp-content/upload
 s/2021/10/Storytime.jpg
END:VEVENT
BEGIN:VEVENT
UID:59@davispubliclibrary.org
DTSTART;TZID=America/New_York:20220407T100000
DTEND;TZID=America/New_York:20220407T110000
DTSTAMP:20220329T191220Z
URL:https://davispubliclibrary.org/events/storytime-2022-04-07/
SUMMARY:Storytime!
DESCRIPTION:\n\nEvery week is a new adventure. Music and movement\, stories
  and props bringing families and learning together!
ATTACH;FMTTYPE=image/jpeg:https://davispubliclibrary.org/wp-content/upload
 s/2021/10/Storytime.jpg
END:VEVENT
BEGIN:VEVENT
UID:364@davispubliclibrary.org
DTSTART;TZID=America/New_York:20220411T170000
DTEND;TZID=America/New_York:20220411T180000
DTSTAMP:20220405T180814Z
URL:https://davispubliclibrary.org/events/teen-meetup-2022-04-11/
SUMMARY:Teen Meetup
DESCRIPTION:\n\nYes\, there is food...YOU run the show! There’s no seriou
 s agenda\, just getting together and hanging out. Come chat\, create\, com
 pete\, and coordinate programs of your own.
ATTACH;FMTTYPE=image/jpeg:https://davispubliclibrary.org/wp-content/upload
 s/2022/04/teen-meetup-11-×-17-in-1.png
END:VEVENT
BEGIN:VEVENT
UID:60@davispubliclibrary.org
DTSTART;TZID=America/New_York:20220414T100000
DTEND;TZID=America/New_York:20220414T110000
DTSTAMP:20220329T191220Z
URL:https://davispubliclibrary.org/events/storytime-2022-04-14/
SUMMARY:Storytime!
DESCRIPTION:\n\nEvery week is a new adventure. Music and movement\, stories
  and props bringing families and learning together!
ATTACH;FMTTYPE=image/jpeg:https://davispubliclibrary.org/wp-content/upload
 s/2021/10/Storytime.jpg
END:VEVENT
BEGIN:VEVENT
UID:170@davispubliclibrary.org
DTSTART;TZID=America/New_York:20220416T110000
DTEND;TZID=America/New_York:20220416T130000
DTSTAMP:20220415T212159Z
URL:https://davispubliclibrary.org/events/easter-eggstravaganza-2/
SUMMARY:Easter Eggstravaganza
DESCRIPTION:Come join the fun! We will have eggsperiments\, egg hunting and
  egg painting! Plus\, stories and snacks!\n\n
CATEGORIES:Childrens Games
END:VEVENT
BEGIN:VEVENT
UID:365@davispubliclibrary.org
DTSTART;TZID=America/New_York:20220418T170000
DTEND;TZID=America/New_York:20220418T180000
DTSTAMP:20220405T180500Z
URL:https://davispubliclibrary.org/events/teen-meetup-2022-04-18/
SUMMARY:Teen Meetup
DESCRIPTION:Yes\, there is food...YOU run the show! There’s no serious ag
 enda\, just getting together and hanging out. Come chat\, create\, compete
 \, and coordinate programs of your own.\n\n&nbsp\;
ATTACH;FMTTYPE=image/jpeg:https://davispubliclibrary.org/wp-content/upload
 s/2022/04/teen-meetup-11-×-17-in-1.png
END:VEVENT
BEGIN:VEVENT
UID:61@davispubliclibrary.org
DTSTART;TZID=America/New_York:20220421T100000
DTEND;TZID=America/New_York:20220421T110000
DTSTAMP:20220329T191220Z
URL:https://davispubliclibrary.org/events/storytime-2022-04-21/
SUMMARY:Storytime!
DESCRIPTION:\n\nEvery week is a new adventure. Music and movement\, stories
  and props bringing families and learning together!
ATTACH;FMTTYPE=image/jpeg:https://davispubliclibrary.org/wp-content/upload
 s/2021/10/Storytime.jpg
END:VEVENT
BEGIN:VEVENT
UID:55@davispubliclibrary.org
DTSTART;TZID=America/New_York:20220423T100000
DTEND;TZID=America/New_York:20220423T110000
DTSTAMP:20220324T173744Z
URL:https://davispubliclibrary.org/events/get-growing/
SUMMARY:Get Growing
DESCRIPTION:\nLearn to start your own home food garden! A hands-on how-to s
 ession led by Stoddard's own master farmer\, Rex Rodanas
ATTACH;FMTTYPE=image/jpeg:https://davispubliclibrary.org/wp-content/upload
 s/2022/03/Get-Growing.jpg
END:VEVENT
BEGIN:VEVENT
UID:366@davispubliclibrary.org
DTSTART;TZID=America/New_York:20220425T170000
DTEND;TZID=America/New_York:20220425T180000
DTSTAMP:20220405T180500Z
URL:https://davispubliclibrary.org/events/teen-meetup-2022-04-25/
SUMMARY:Teen Meetup
DESCRIPTION:Yes\, there is food...YOU run the show! There’s no serious ag
 enda\, just getting together and hanging out. Come chat\, create\, compete
 \, and coordinate programs of your own.\n\n&nbsp\;
ATTACH;FMTTYPE=image/jpeg:https://davispubliclibrary.org/wp-content/upload
 s/2022/04/teen-meetup-11-×-17-in-1.png
END:VEVENT
BEGIN:VEVENT
UID:62@davispubliclibrary.org
DTSTART;TZID=America/New_York:20220428T100000
DTEND;TZID=America/New_York:20220428T110000
DTSTAMP:20220329T191220Z
URL:https://davispubliclibrary.org/events/storytime-2022-04-28/
SUMMARY:Storytime!
DESCRIPTION:\n\nEvery week is a new adventure. Music and movement\, stories
  and props bringing families and learning together!
ATTACH;FMTTYPE=image/jpeg:https://davispubliclibrary.org/wp-content/upload
 s/2021/10/Storytime.jpg
END:VEVENT
BEGIN:VEVENT
UID:367@davispubliclibrary.org
DTSTART;TZID=America/New_York:20220502T170000
DTEND;TZID=America/New_York:20220502T180000
DTSTAMP:20220405T180500Z
URL:https://davispubliclibrary.org/events/teen-meetup-2022-05-02/
SUMMARY:Teen Meetup
DESCRIPTION:Yes\, there is food...YOU run the show! There’s no serious ag
 enda\, just getting together and hanging out. Come chat\, create\, compete
 \, and coordinate programs of your own.\n\n&nbsp\;
ATTACH;FMTTYPE=image/jpeg:https://davispubliclibrary.org/wp-content/upload
 s/2022/04/teen-meetup-11-×-17-in-1.png
END:VEVENT
BEGIN:VEVENT
UID:374@davispubliclibrary.org
DTSTART;TZID=America/New_York:20220502T190000
DTEND;TZID=America/New_York:20220502T190000
DTSTAMP:20220419T204148Z
URL:https://davispubliclibrary.org/events/meet-the-candidates/
SUMMARY:Meet the Candidates
DESCRIPTION:Be prepared for the upcoming town elections! Ask your questions
 . Get involved. Meet the nominees!\n
ATTACH;FMTTYPE=image/jpeg:https://davispubliclibrary.org/wp-content/upload
 s/2022/04/Blue-Gold-Rustic-Artisinal-Remote-Graduation-Invitation.jpg
END:VEVENT
BEGIN:VEVENT
UID:63@davispubliclibrary.org
DTSTART;TZID=America/New_York:20220505T100000
DTEND;TZID=America/New_York:20220505T110000
DTSTAMP:20220329T191220Z
URL:https://davispubliclibrary.org/events/storytime-2022-05-05/
SUMMARY:Storytime!
DESCRIPTION:\n\nEvery week is a new adventure. Music and movement\, stories
  and props bringing families and learning together!
ATTACH;FMTTYPE=image/jpeg:https://davispubliclibrary.org/wp-content/upload
 s/2021/10/Storytime.jpg
END:VEVENT
BEGIN:VEVENT
UID:368@davispubliclibrary.org
DTSTART;TZID=America/New_York:20220509T170000
DTEND;TZID=America/New_York:20220509T180000
DTSTAMP:20220405T180500Z
URL:https://davispubliclibrary.org/events/teen-meetup-2022-05-09/
SUMMARY:Teen Meetup
DESCRIPTION:Yes\, there is food...YOU run the show! There’s no serious ag
 enda\, just getting together and hanging out. Come chat\, create\, compete
 \, and coordinate programs of your own.\n\n&nbsp\;
ATTACH;FMTTYPE=image/jpeg:https://davispubliclibrary.org/wp-content/upload
 s/2022/04/teen-meetup-11-×-17-in-1.png
END:VEVENT
BEGIN:VEVENT
UID:946@davispubliclibrary.org
DTSTART;TZID=America/New_York:20220509T190000
DTEND;TZID=America/New_York:20220509T200000
DTSTAMP:20260105T221928Z
URL:https://davispubliclibrary.org/events/book-club-2022-05-09/
SUMMARY:Book Club
DESCRIPTION:Join the Davis Public Library Book Club lead by Leigh Fosberry 
 and Inga Dellea. Book Club meets on the 2nd Monday evening of every month\
 , and you may join physically OR virtually HERE!\n\nFor 2026\, the books a
 re currently as follows (but this list can change)\n\nJan 12 – The Froze
 n River by Ariel Lawhon ILL\nFeb 9 - An Immense World by Ed Young RTG\nMar
 ch 9 – The Berry Pickers by Amanda Peters RTG\nApril 13 – The Beach on
  Summerly by Beatriz Williams RTG\nMay 14 – The Bear by Andrew Krivak RT
 G\n\nJune\, July and August\nSummer Hiatus\n\nSept 14 – Another Brooklyn
  by Jacqueline Woodson RTG\nOct 12 – Tom Lake by Ann Patchet RTG\nNov 9 
 – Lessons in Chemistry by Bonnie Garum RTG\nDec 14 – God of the Woods 
 by Liz Moore RTG
LOCATION:https://us02web.zoom.us/j/85730551066?pwd=L2VuczB1WlE3OE9VSUJYMml2
 NU1xdz09
END:VEVENT
BEGIN:VEVENT
UID:64@davispubliclibrary.org
DTSTART;TZID=America/New_York:20220512T100000
DTEND;TZID=America/New_York:20220512T110000
DTSTAMP:20220329T191220Z
URL:https://davispubliclibrary.org/events/storytime-2022-05-12/
SUMMARY:Storytime!
DESCRIPTION:\n\nEvery week is a new adventure. Music and movement\, stories
  and props bringing families and learning together!
ATTACH;FMTTYPE=image/jpeg:https://davispubliclibrary.org/wp-content/upload
 s/2021/10/Storytime.jpg
END:VEVENT
BEGIN:VEVENT
UID:369@davispubliclibrary.org
DTSTART;TZID=America/New_York:20220516T170000
DTEND;TZID=America/New_York:20220516T180000
DTSTAMP:20220405T180500Z
URL:https://davispubliclibrary.org/events/teen-meetup-2022-05-16/
SUMMARY:Teen Meetup
DESCRIPTION:Yes\, there is food...YOU run the show! There’s no serious ag
 enda\, just getting together and hanging out. Come chat\, create\, compete
 \, and coordinate programs of your own.\n\n&nbsp\;
ATTACH;FMTTYPE=image/jpeg:https://davispubliclibrary.org/wp-content/upload
 s/2022/04/teen-meetup-11-×-17-in-1.png
END:VEVENT
BEGIN:VEVENT
UID:65@davispubliclibrary.org
DTSTART;TZID=America/New_York:20220519T100000
DTEND;TZID=America/New_York:20220519T110000
DTSTAMP:20220329T191220Z
URL:https://davispubliclibrary.org/events/storytime-2022-05-19/
SUMMARY:Storytime!
DESCRIPTION:\n\nEvery week is a new adventure. Music and movement\, stories
  and props bringing families and learning together!
ATTACH;FMTTYPE=image/jpeg:https://davispubliclibrary.org/wp-content/upload
 s/2021/10/Storytime.jpg
END:VEVENT
BEGIN:VEVENT
UID:370@davispubliclibrary.org
DTSTART;TZID=America/New_York:20220523T170000
DTEND;TZID=America/New_York:20220523T180000
DTSTAMP:20220405T180500Z
URL:https://davispubliclibrary.org/events/teen-meetup-2022-05-23/
SUMMARY:Teen Meetup
DESCRIPTION:Yes\, there is food...YOU run the show! There’s no serious ag
 enda\, just getting together and hanging out. Come chat\, create\, compete
 \, and coordinate programs of your own.\n\n&nbsp\;
ATTACH;FMTTYPE=image/jpeg:https://davispubliclibrary.org/wp-content/upload
 s/2022/04/teen-meetup-11-×-17-in-1.png
END:VEVENT
BEGIN:VEVENT
UID:66@davispubliclibrary.org
DTSTART;TZID=America/New_York:20220526T100000
DTEND;TZID=America/New_York:20220526T110000
DTSTAMP:20220329T191220Z
URL:https://davispubliclibrary.org/events/storytime-2022-05-26/
SUMMARY:Storytime!
DESCRIPTION:\n\nEvery week is a new adventure. Music and movement\, stories
  and props bringing families and learning together!
ATTACH;FMTTYPE=image/jpeg:https://davispubliclibrary.org/wp-content/upload
 s/2021/10/Storytime.jpg
END:VEVENT
BEGIN:VEVENT
UID:371@davispubliclibrary.org
DTSTART;TZID=America/New_York:20220530T170000
DTEND;TZID=America/New_York:20220530T180000
DTSTAMP:20220405T180500Z
URL:https://davispubliclibrary.org/events/teen-meetup-2022-05-30/
SUMMARY:Teen Meetup
DESCRIPTION:Yes\, there is food...YOU run the show! There’s no serious ag
 enda\, just getting together and hanging out. Come chat\, create\, compete
 \, and coordinate programs of your own.\n\n&nbsp\;
ATTACH;FMTTYPE=image/jpeg:https://davispubliclibrary.org/wp-content/upload
 s/2022/04/teen-meetup-11-×-17-in-1.png
END:VEVENT
BEGIN:VEVENT
UID:67@davispubliclibrary.org
DTSTART;TZID=America/New_York:20220602T100000
DTEND;TZID=America/New_York:20220602T110000
DTSTAMP:20220329T191220Z
URL:https://davispubliclibrary.org/events/storytime-2022-06-02/
SUMMARY:Storytime!
DESCRIPTION:\n\nEvery week is a new adventure. Music and movement\, stories
  and props bringing families and learning together!
ATTACH;FMTTYPE=image/jpeg:https://davispubliclibrary.org/wp-content/upload
 s/2021/10/Storytime.jpg
END:VEVENT
BEGIN:VEVENT
UID:372@davispubliclibrary.org
DTSTART;TZID=America/New_York:20220606T170000
DTEND;TZID=America/New_York:20220606T180000
DTSTAMP:20220405T180500Z
URL:https://davispubliclibrary.org/events/teen-meetup-2022-06-06/
SUMMARY:Teen Meetup
DESCRIPTION:Yes\, there is food...YOU run the show! There’s no serious ag
 enda\, just getting together and hanging out. Come chat\, create\, compete
 \, and coordinate programs of your own.\n\n&nbsp\;
ATTACH;FMTTYPE=image/jpeg:https://davispubliclibrary.org/wp-content/upload
 s/2022/04/teen-meetup-11-×-17-in-1.png
END:VEVENT
BEGIN:VEVENT
UID:68@davispubliclibrary.org
DTSTART;TZID=America/New_York:20220609T100000
DTEND;TZID=America/New_York:20220609T110000
DTSTAMP:20220329T191220Z
URL:https://davispubliclibrary.org/events/storytime-2022-06-09/
SUMMARY:Storytime!
DESCRIPTION:\n\nEvery week is a new adventure. Music and movement\, stories
  and props bringing families and learning together!
ATTACH;FMTTYPE=image/jpeg:https://davispubliclibrary.org/wp-content/upload
 s/2021/10/Storytime.jpg
END:VEVENT
BEGIN:VEVENT
UID:373@davispubliclibrary.org
DTSTART;TZID=America/New_York:20220613T170000
DTEND;TZID=America/New_York:20220613T180000
DTSTAMP:20220405T180500Z
URL:https://davispubliclibrary.org/events/teen-meetup-2022-06-13/
SUMMARY:Teen Meetup
DESCRIPTION:Yes\, there is food...YOU run the show! There’s no serious ag
 enda\, just getting together and hanging out. Come chat\, create\, compete
 \, and coordinate programs of your own.\n\n&nbsp\;
ATTACH;FMTTYPE=image/jpeg:https://davispubliclibrary.org/wp-content/upload
 s/2022/04/teen-meetup-11-×-17-in-1.png
END:VEVENT
BEGIN:VEVENT
UID:947@davispubliclibrary.org
DTSTART;TZID=America/New_York:20220613T190000
DTEND;TZID=America/New_York:20220613T200000
DTSTAMP:20260105T221928Z
URL:https://davispubliclibrary.org/events/book-club-2022-06-13/
SUMMARY:Book Club
DESCRIPTION:Join the Davis Public Library Book Club lead by Leigh Fosberry 
 and Inga Dellea. Book Club meets on the 2nd Monday evening of every month\
 , and you may join physically OR virtually HERE!\n\nFor 2026\, the books a
 re currently as follows (but this list can change)\n\nJan 12 – The Froze
 n River by Ariel Lawhon ILL\nFeb 9 - An Immense World by Ed Young RTG\nMar
 ch 9 – The Berry Pickers by Amanda Peters RTG\nApril 13 – The Beach on
  Summerly by Beatriz Williams RTG\nMay 14 – The Bear by Andrew Krivak RT
 G\n\nJune\, July and August\nSummer Hiatus\n\nSept 14 – Another Brooklyn
  by Jacqueline Woodson RTG\nOct 12 – Tom Lake by Ann Patchet RTG\nNov 9 
 – Lessons in Chemistry by Bonnie Garum RTG\nDec 14 – God of the Woods 
 by Liz Moore RTG
LOCATION:https://us02web.zoom.us/j/85730551066?pwd=L2VuczB1WlE3OE9VSUJYMml2
 NU1xdz09
END:VEVENT
BEGIN:VEVENT
UID:69@davispubliclibrary.org
DTSTART;TZID=America/New_York:20220616T100000
DTEND;TZID=America/New_York:20220616T110000
DTSTAMP:20220329T191220Z
URL:https://davispubliclibrary.org/events/storytime-2022-06-16/
SUMMARY:Storytime!
DESCRIPTION:\n\nEvery week is a new adventure. Music and movement\, stories
  and props bringing families and learning together!
ATTACH;FMTTYPE=image/jpeg:https://davispubliclibrary.org/wp-content/upload
 s/2021/10/Storytime.jpg
END:VEVENT
BEGIN:VEVENT
UID:70@davispubliclibrary.org
DTSTART;TZID=America/New_York:20220623T100000
DTEND;TZID=America/New_York:20220623T110000
DTSTAMP:20220329T191220Z
URL:https://davispubliclibrary.org/events/storytime-2022-06-23/
SUMMARY:Storytime!
DESCRIPTION:\n\nEvery week is a new adventure. Music and movement\, stories
  and props bringing families and learning together!
ATTACH;FMTTYPE=image/jpeg:https://davispubliclibrary.org/wp-content/upload
 s/2021/10/Storytime.jpg
END:VEVENT
BEGIN:VEVENT
UID:377@davispubliclibrary.org
DTSTART:20220625T110000Z
DTEND:20220625T130000Z
DTSTAMP:20220616T175608Z
URL:https://davispubliclibrary.org/events/summer-reading-kickoff-fun-in-th
 e-sun-day/
SUMMARY:Summer Reading Kickoff! Fun in the Sun Day
DESCRIPTION:Mill Village Pizza\, Solar Smores\, sprinkler play and more at 
 our big summer reading kickoff event! ALL ages are welcome.
LOCATION:Davis Public Library\, 1391 Rt 123 North\, Stoddard\, New Hampshir
 e\, 03464\, United States
X-APPLE-STRUCTURED-LOCATION;VALUE=URI;X-ADDRESS=1391 Rt 123 North\, Stoddar
 d\, New Hampshire\, 03464\, United States;X-APPLE-RADIUS=100;X-TITLE=Davis
  Public Library:geo:0,0
END:VEVENT
BEGIN:VEVENT
UID:571@davispubliclibrary.org
DTSTART:20220628T140000Z
DTEND:20220628T160000Z
DTSTAMP:20220623T182743Z
URL:https://davispubliclibrary.org/events/big-kid-game-days-2022-06-28/
SUMMARY:Big Kid Game Days
DESCRIPTION:Enjoy the library's collection of strategy and card games\, puz
 zles\, etc. for kids!\n\nNo registration required. Children age 10 or unde
 r must be accompanied by an adult.
LOCATION:Davis Public Library\, 1391 Rt 123 North\, Stoddard\, New Hampshir
 e\, 03464\, United States
X-APPLE-STRUCTURED-LOCATION;VALUE=URI;X-ADDRESS=1391 Rt 123 North\, Stoddar
 d\, New Hampshire\, 03464\, United States;X-APPLE-RADIUS=100;X-TITLE=Davis
  Public Library:geo:0,0
END:VEVENT
BEGIN:VEVENT
UID:566@davispubliclibrary.org
DTSTART:20220629T100000Z
DTEND:20220629T110000Z
DTSTAMP:20220623T182629Z
URL:https://davispubliclibrary.org/events/womens-s-o-u-p-group-2022-06-29/
SUMMARY:Women's S.O.U.P. Group - Sisters Of Unlimited Potential
DESCRIPTION:Women's S.O.U.P. Group - Sisters Of Unlimited Potential Social 
 Event
ATTACH;FMTTYPE=image/jpeg:https://davispubliclibrary.org/wp-content/upload
 s/2022/05/Bright-Pink-Bordered-Womens-Rights-Poster-11-×-17-in.jpg
CATEGORIES:Women's Social
LOCATION:Davis Public Library\, 1391 Rt 123 North\, Stoddard\, New Hampshir
 e\, 03464\, United States
X-APPLE-STRUCTURED-LOCATION;VALUE=URI;X-ADDRESS=1391 Rt 123 North\, Stoddar
 d\, New Hampshire\, 03464\, United States;X-APPLE-RADIUS=100;X-TITLE=Davis
  Public Library:geo:0,0
END:VEVENT
BEGIN:VEVENT
UID:71@davispubliclibrary.org
DTSTART;TZID=America/New_York:20220630T100000
DTEND;TZID=America/New_York:20220630T110000
DTSTAMP:20220329T191220Z
URL:https://davispubliclibrary.org/events/storytime-2022-06-30/
SUMMARY:Storytime!
DESCRIPTION:\n\nEvery week is a new adventure. Music and movement\, stories
  and props bringing families and learning together!
ATTACH;FMTTYPE=image/jpeg:https://davispubliclibrary.org/wp-content/upload
 s/2021/10/Storytime.jpg
END:VEVENT
BEGIN:VEVENT
UID:378@davispubliclibrary.org
DTSTART:20220630T140000Z
DTEND:20220630T150000Z
DTSTAMP:20220623T193236Z
URL:https://davispubliclibrary.org/events/kids-steam-2022-06-30/
SUMMARY:Kid's STEAM/Slippery Science-Whale Blubber!
DESCRIPTION:Join us in a spectacular series of science experiments for kids
 !
LOCATION:Davis Public Library\, 1391 Rt 123 North\, Stoddard\, New Hampshir
 e\, 03464\, United States
X-APPLE-STRUCTURED-LOCATION;VALUE=URI;X-ADDRESS=1391 Rt 123 North\, Stoddar
 d\, New Hampshire\, 03464\, United States;X-APPLE-RADIUS=100;X-TITLE=Davis
  Public Library:geo:0,0
END:VEVENT
BEGIN:VEVENT
UID:572@davispubliclibrary.org
DTSTART:20220705T140000Z
DTEND:20220705T160000Z
DTSTAMP:20220623T182743Z
URL:https://davispubliclibrary.org/events/big-kid-game-days-2022-07-05/
SUMMARY:Big Kid Game Days
DESCRIPTION:Enjoy the library's collection of strategy and card games\, puz
 zles\, etc. for kids!\n\nNo registration required. Children age 10 or unde
 r must be accompanied by an adult.
LOCATION:Davis Public Library\, 1391 Rt 123 North\, Stoddard\, New Hampshir
 e\, 03464\, United States
X-APPLE-STRUCTURED-LOCATION;VALUE=URI;X-ADDRESS=1391 Rt 123 North\, Stoddar
 d\, New Hampshire\, 03464\, United States;X-APPLE-RADIUS=100;X-TITLE=Davis
  Public Library:geo:0,0
END:VEVENT
BEGIN:VEVENT
UID:72@davispubliclibrary.org
DTSTART;TZID=America/New_York:20220707T100000
DTEND;TZID=America/New_York:20220707T110000
DTSTAMP:20220329T191220Z
URL:https://davispubliclibrary.org/events/storytime-2022-07-07/
SUMMARY:Storytime!
DESCRIPTION:\n\nEvery week is a new adventure. Music and movement\, stories
  and props bringing families and learning together!
ATTACH;FMTTYPE=image/jpeg:https://davispubliclibrary.org/wp-content/upload
 s/2021/10/Storytime.jpg
END:VEVENT
BEGIN:VEVENT
UID:379@davispubliclibrary.org
DTSTART:20220707T140000Z
DTEND:20220707T150000Z
DTSTAMP:20220623T193314Z
URL:https://davispubliclibrary.org/events/kids-steam-2022-07-07/
SUMMARY:Kid's STEAM/Slippery Science-Bottle Rockets!
DESCRIPTION:Join us in a spectacular series of science experiments for kids
 !
LOCATION:Davis Public Library\, 1391 Rt 123 North\, Stoddard\, New Hampshir
 e\, 03464\, United States
X-APPLE-STRUCTURED-LOCATION;VALUE=URI;X-ADDRESS=1391 Rt 123 North\, Stoddar
 d\, New Hampshire\, 03464\, United States;X-APPLE-RADIUS=100;X-TITLE=Davis
  Public Library:geo:0,0
END:VEVENT
BEGIN:VEVENT
UID:579@davispubliclibrary.org
DTSTART:20220708T160000Z
DTEND:20220708T170000Z
DTSTAMP:20220623T190108Z
URL:https://davispubliclibrary.org/events/kids-arts-crafts-days-2022-07-08
 /
SUMMARY:Stencil Making & Tie Dying Peace Flags
DESCRIPTION:Come express your creative side with our resident artist and li
 brary assistant\, Tristan Bridges!
ATTACH;FMTTYPE=image/jpeg:https://davispubliclibrary.org/wp-content/upload
 s/2022/05/Flags-for-Peace.jpg
CATEGORIES:Childrens Arts &amp; Crafts
END:VEVENT
BEGIN:VEVENT
UID:397@davispubliclibrary.org
DTSTART:20220708T190000Z
DTEND:20220708T200000Z
DTSTAMP:20220519T175428Z
URL:https://davispubliclibrary.org/events/learn-about-the-wilson-land-cons
 ervation-effort/
SUMMARY:Learn about the Wilson Land Conservation Effort
DESCRIPTION:An informational session lead by Geoff Jones on the efforts bei
 ng made by the conservation commission and the Town to protect the last of
  the undeveloped land on Highland Lake. How\, and why\, should you care? F
 ind out!
END:VEVENT
BEGIN:VEVENT
UID:395@davispubliclibrary.org
DTSTART:20220709T100000Z
DTEND:20220709T120000Z
DTSTAMP:20220709T145723Z
URL:https://davispubliclibrary.org/events/davis-lesser-guided-garden-tour/
SUMMARY:David Lesser Guided Garden Tour
DESCRIPTION:Explore the garden of a master gardener and learn some of his s
 trategies and techniques as part of your Old Home Days escapades! The addr
 ess for this program is 125 Treelyn Road\, right over the bridge on the le
 ft. Enjoy the beauty!
END:VEVENT
BEGIN:VEVENT
UID:505@davispubliclibrary.org
DTSTART:20220709T110000Z
DTEND:20220709T120000Z
DTSTAMP:20220623T163845Z
URL:https://davispubliclibrary.org/events/old-homes-day-stories-play/
SUMMARY:Old Homes Day Stories & Play
DESCRIPTION:Stop into the Library for special Old Homes Day stories and pla
 ytime with Miss Inga!
END:VEVENT
BEGIN:VEVENT
UID:948@davispubliclibrary.org
DTSTART;TZID=America/New_York:20220711T190000
DTEND;TZID=America/New_York:20220711T200000
DTSTAMP:20260105T221928Z
URL:https://davispubliclibrary.org/events/book-club-2022-07-11/
SUMMARY:Book Club
DESCRIPTION:Join the Davis Public Library Book Club lead by Leigh Fosberry 
 and Inga Dellea. Book Club meets on the 2nd Monday evening of every month\
 , and you may join physically OR virtually HERE!\n\nFor 2026\, the books a
 re currently as follows (but this list can change)\n\nJan 12 – The Froze
 n River by Ariel Lawhon ILL\nFeb 9 - An Immense World by Ed Young RTG\nMar
 ch 9 – The Berry Pickers by Amanda Peters RTG\nApril 13 – The Beach on
  Summerly by Beatriz Williams RTG\nMay 14 – The Bear by Andrew Krivak RT
 G\n\nJune\, July and August\nSummer Hiatus\n\nSept 14 – Another Brooklyn
  by Jacqueline Woodson RTG\nOct 12 – Tom Lake by Ann Patchet RTG\nNov 9 
 – Lessons in Chemistry by Bonnie Garum RTG\nDec 14 – God of the Woods 
 by Liz Moore RTG
LOCATION:https://us02web.zoom.us/j/85730551066?pwd=L2VuczB1WlE3OE9VSUJYMml2
 NU1xdz09
END:VEVENT
BEGIN:VEVENT
UID:573@davispubliclibrary.org
DTSTART:20220712T140000Z
DTEND:20220712T160000Z
DTSTAMP:20220623T182743Z
URL:https://davispubliclibrary.org/events/big-kid-game-days-2022-07-12/
SUMMARY:Big Kid Game Days
DESCRIPTION:Enjoy the library's collection of strategy and card games\, puz
 zles\, etc. for kids!\n\nNo registration required. Children age 10 or unde
 r must be accompanied by an adult.
LOCATION:Davis Public Library\, 1391 Rt 123 North\, Stoddard\, New Hampshir
 e\, 03464\, United States
X-APPLE-STRUCTURED-LOCATION;VALUE=URI;X-ADDRESS=1391 Rt 123 North\, Stoddar
 d\, New Hampshire\, 03464\, United States;X-APPLE-RADIUS=100;X-TITLE=Davis
  Public Library:geo:0,0
END:VEVENT
BEGIN:VEVENT
UID:567@davispubliclibrary.org
DTSTART:20220713T100000Z
DTEND:20220713T110000Z
DTSTAMP:20220623T182629Z
URL:https://davispubliclibrary.org/events/womens-s-o-u-p-group-2022-07-13/
SUMMARY:Women's S.O.U.P. Group - Sisters Of Unlimited Potential
DESCRIPTION:Women's S.O.U.P. Group - Sisters Of Unlimited Potential Social 
 Event
ATTACH;FMTTYPE=image/jpeg:https://davispubliclibrary.org/wp-content/upload
 s/2022/05/Bright-Pink-Bordered-Womens-Rights-Poster-11-×-17-in.jpg
CATEGORIES:Women's Social
LOCATION:Davis Public Library\, 1391 Rt 123 North\, Stoddard\, New Hampshir
 e\, 03464\, United States
X-APPLE-STRUCTURED-LOCATION;VALUE=URI;X-ADDRESS=1391 Rt 123 North\, Stoddar
 d\, New Hampshire\, 03464\, United States;X-APPLE-RADIUS=100;X-TITLE=Davis
  Public Library:geo:0,0
END:VEVENT
BEGIN:VEVENT
UID:73@davispubliclibrary.org
DTSTART;TZID=America/New_York:20220714T100000
DTEND;TZID=America/New_York:20220714T110000
DTSTAMP:20220329T191220Z
URL:https://davispubliclibrary.org/events/storytime-2022-07-14/
SUMMARY:Storytime!
DESCRIPTION:\n\nEvery week is a new adventure. Music and movement\, stories
  and props bringing families and learning together!
ATTACH;FMTTYPE=image/jpeg:https://davispubliclibrary.org/wp-content/upload
 s/2021/10/Storytime.jpg
END:VEVENT
BEGIN:VEVENT
UID:380@davispubliclibrary.org
DTSTART:20220714T140000Z
DTEND:20220714T150000Z
DTSTAMP:20220623T193347Z
URL:https://davispubliclibrary.org/events/kids-steam-2022-07-14/
SUMMARY:Kid's STEAM/Slippery Science-Ocean Currents!
DESCRIPTION:Join us in a spectacular series of science experiments for kids
 !
LOCATION:Davis Public Library\, 1391 Rt 123 North\, Stoddard\, New Hampshir
 e\, 03464\, United States
X-APPLE-STRUCTURED-LOCATION;VALUE=URI;X-ADDRESS=1391 Rt 123 North\, Stoddar
 d\, New Hampshire\, 03464\, United States;X-APPLE-RADIUS=100;X-TITLE=Davis
  Public Library:geo:0,0
END:VEVENT
BEGIN:VEVENT
UID:580@davispubliclibrary.org
DTSTART:20220715T160000Z
DTEND:20220715T170000Z
DTSTAMP:20220623T190108Z
URL:https://davispubliclibrary.org/events/kids-arts-crafts-days-2022-07-15
 /
SUMMARY:Stencil Making & Tie Dying Peace Flags
DESCRIPTION:Come express your creative side with our resident artist and li
 brary assistant\, Tristan Bridges!
ATTACH;FMTTYPE=image/jpeg:https://davispubliclibrary.org/wp-content/upload
 s/2022/05/Flags-for-Peace.jpg
CATEGORIES:Childrens Arts &amp; Crafts
END:VEVENT
BEGIN:VEVENT
UID:574@davispubliclibrary.org
DTSTART:20220719T140000Z
DTEND:20220719T160000Z
DTSTAMP:20220623T182743Z
URL:https://davispubliclibrary.org/events/big-kid-game-days-2022-07-19/
SUMMARY:Big Kid Game Days
DESCRIPTION:Enjoy the library's collection of strategy and card games\, puz
 zles\, etc. for kids!\n\nNo registration required. Children age 10 or unde
 r must be accompanied by an adult.
LOCATION:Davis Public Library\, 1391 Rt 123 North\, Stoddard\, New Hampshir
 e\, 03464\, United States
X-APPLE-STRUCTURED-LOCATION;VALUE=URI;X-ADDRESS=1391 Rt 123 North\, Stoddar
 d\, New Hampshire\, 03464\, United States;X-APPLE-RADIUS=100;X-TITLE=Davis
  Public Library:geo:0,0
END:VEVENT
BEGIN:VEVENT
UID:74@davispubliclibrary.org
DTSTART;TZID=America/New_York:20220721T100000
DTEND;TZID=America/New_York:20220721T110000
DTSTAMP:20220329T191220Z
URL:https://davispubliclibrary.org/events/storytime-2022-07-21/
SUMMARY:Storytime!
DESCRIPTION:\n\nEvery week is a new adventure. Music and movement\, stories
  and props bringing families and learning together!
ATTACH;FMTTYPE=image/jpeg:https://davispubliclibrary.org/wp-content/upload
 s/2021/10/Storytime.jpg
END:VEVENT
BEGIN:VEVENT
UID:381@davispubliclibrary.org
DTSTART:20220721T140000Z
DTEND:20220721T150000Z
DTSTAMP:20220623T193427Z
URL:https://davispubliclibrary.org/events/kids-steam-2022-07-21/
SUMMARY:Kid's STEAM/Slippery Science-Erupting Volcanoes!
DESCRIPTION:Join us in a spectacular series of science experiments for kids
 !
LOCATION:Davis Public Library\, 1391 Rt 123 North\, Stoddard\, New Hampshir
 e\, 03464\, United States
X-APPLE-STRUCTURED-LOCATION;VALUE=URI;X-ADDRESS=1391 Rt 123 North\, Stoddar
 d\, New Hampshire\, 03464\, United States;X-APPLE-RADIUS=100;X-TITLE=Davis
  Public Library:geo:0,0
END:VEVENT
BEGIN:VTIMEZONE
TZID:America/New_York
X-LIC-LOCATION:America/New_York
BEGIN:DAYLIGHT
DTSTART:20220313T030000
TZOFFSETFROM:-0500
TZOFFSETTO:-0400
TZNAME:EDT
END:DAYLIGHT
END:VTIMEZONE
END:VCALENDAR